BEGIN:VCALENDAR
VERSION:2.0
PRODID:-//RAMESA Nursery - ECPv5.0.2.1//NONSGML v1.0//EN
CALSCALE:GREGORIAN
METHOD:PUBLISH
X-WR-CALNAME:RAMESA Nursery
X-ORIGINAL-URL:https://www.ramesa.com.au
X-WR-CALDESC:Events for RAMESA Nursery
BEGIN:VTIMEZONE
TZID:Australia/Brisbane
BEGIN:STANDARD
TZOFFSETFROM:+1000
TZOFFSETTO:+1000
TZNAME:AEST
DTSTART:20200101T000000
END:STANDARD
END:VTIMEZONE
BEGIN:VEVENT
DTSTART;TZID=Australia/Brisbane:20200308T080000
DTEND;TZID=Australia/Brisbane:20200308T130000
DTSTAMP:20200302T120234
CREATED:20200130T112333Z
LAST-MODIFIED:20200218T220144Z
UID:1387-1583654400-1583672400@www.ramesa.com.au
SUMMARY:The Maker's Market - Toowoomba
DESCRIPTION:Creating a fun\, family friendly environment for amazing local makers\, doers and small businesses to showcase their products for the people of our beautiful city to see. \n251/291 Ruthven Street\nToowoomba\, Queensland \n
URL:https://www.ramesa.com.au/event/the-makers-market-toowoomba/
LOCATION:Maker’s Market\, 251/291 Ruthven Street\, Toowoomba\, Queensland\, 4350\, Australia
CATEGORIES:Markets
ATTACH;FMTTYPE=image/jpeg:https://www.ramesa.com.au/wp-content/uploads/2020/01/makers_toowoomba.jpg
END:VEVENT
END:VCALENDAR