BEGIN:VCALENDAR
VERSION:2.0
PRODID:-//RAMESA Nursery - ECPv5.0.2.1//NONSGML v1.0//EN
CALSCALE:GREGORIAN
METHOD:PUBLISH
X-WR-CALNAME:RAMESA Nursery
X-ORIGINAL-URL:https://www.ramesa.com.au
X-WR-CALDESC:Events for RAMESA Nursery
BEGIN:VTIMEZONE
TZID:Australia/Brisbane
BEGIN:STANDARD
TZOFFSETFROM:+1000
TZOFFSETTO:+1000
TZNAME:AEST
DTSTART:20190101T000000
END:STANDARD
END:VTIMEZONE
BEGIN:VEVENT
DTSTART;TZID=Australia/Brisbane:20191011T090000
DTEND;TZID=Australia/Brisbane:20191012T160000
DTSTAMP:20200302T115137
CREATED:20191009T081354Z
LAST-MODIFIED:20191009T081941Z
UID:1052-1570784400-1570896000@www.ramesa.com.au
SUMMARY:Stanthorpe Gardenfest and Trade Fair
DESCRIPTION:\n\nFriday\, 11th and Saturday\, 12th October 9.00am – 4.00pm \nThe number one gardening event on the Southern Downs and Granite Belt. Free admission – Light refreshments available. Exhibitors include – Plant displays & sales\, Trade displays\, Landscaping supplies\, Craft sales – something for everyone. \n\n\nLOCATION:207 Amosfield Rd\, Stanthorpe QLD\, \n\n\n\n\nPhone: 07 4681 1363 or 07 4681 2827 \n\n\nNo ATM on site – mainly cash sales \n\n\n\n\n\n\n\n\n\n\n\n\n\n\n\n\n\n\n\n\n\nThe 2019 Stanthorpe Gardenfest and Trade Fair\n207 Amosfield Rd\, Stanthorpe QLD \n\n\n\n\n\n\n\n\n\n\n\n\n\n\n\n\n\n\n
URL:https://www.ramesa.com.au/event/stanthorpe-gardenfest-and-trade-fair/
LOCATION:Stanthorpe Garden Festival\, 207 Amosfield Rd\, Stanthorpe\, QLD\, 4380\, Australia
CATEGORIES:Expos/Festivals
ATTACH;FMTTYPE=image/jpeg:https://www.ramesa.com.au/wp-content/uploads/2019/10/stanthorpe_2019-e1570609173938.jpg
END:VEVENT
END:VCALENDAR