BEGIN:VCALENDAR
VERSION:2.0
PRODID:-//RAMESA Nursery - ECPv5.0.2.1//NONSGML v1.0//EN
CALSCALE:GREGORIAN
METHOD:PUBLISH
X-WR-CALNAME:RAMESA Nursery
X-ORIGINAL-URL:https://www.ramesa.com.au
X-WR-CALDESC:Events for RAMESA Nursery
BEGIN:VTIMEZONE
TZID:Australia/Brisbane
BEGIN:STANDARD
TZOFFSETFROM:+1000
TZOFFSETTO:+1000
TZNAME:AEST
DTSTART:20200101T000000
END:STANDARD
END:VTIMEZONE
BEGIN:VEVENT
DTSTART;TZID=Australia/Brisbane:20200202T053000
DTEND;TZID=Australia/Brisbane:20200202T113000
DTSTAMP:20200302T115500
CREATED:20200130T100434Z
LAST-MODIFIED:20200130T100700Z
UID:1378-1580621400-1580643000@www.ramesa.com.au
SUMMARY:Caboolture Country Markets
DESCRIPTION:The Caboolture Country Markets are one of the largest markets in South East Queensland with over 350 stalls each week.\nIn 2019 Caboolture Country Markets will celebrate an incredible 40years of trading.\nCome and see what we have to offer. Held every Sunday morning at Caboolture the showgrounds 6am to 12pm.\n
URL:https://www.ramesa.com.au/event/caboolture-country-markets/
CATEGORIES:Markets
ATTACH;FMTTYPE=image/jpeg:https://www.ramesa.com.au/wp-content/uploads/2020/01/caboolture.jpg
END:VEVENT
END:VCALENDAR