BEGIN:VCALENDAR
VERSION:2.0
PRODID:-//RAMESA Nursery - ECPv5.0.2.1//NONSGML v1.0//EN
CALSCALE:GREGORIAN
METHOD:PUBLISH
X-WR-CALNAME:RAMESA Nursery
X-ORIGINAL-URL:https://www.ramesa.com.au
X-WR-CALDESC:Events for RAMESA Nursery
BEGIN:VTIMEZONE
TZID:Australia/Brisbane
BEGIN:STANDARD
TZOFFSETFROM:+1000
TZOFFSETTO:+1000
TZNAME:AEST
DTSTART:20180101T000000
END:STANDARD
END:VTIMEZONE
BEGIN:VEVENT
DTSTART;TZID=Australia/Brisbane:20181209T070000
DTEND;TZID=Australia/Brisbane:20181209T120000
DTSTAMP:20200302T120217
CREATED:20180225T072428Z
LAST-MODIFIED:20181205T234228Z
UID:723-1544338800-1544356800@www.ramesa.com.au
SUMMARY:Bell Markets
DESCRIPTION:Summer Markets next Sunday 9th December. Come along from 8am with a selection of regular and new stalls in the garden. We will be serving an all day menu to include our Pips Benny\, Steak sandwiches and Beef n Blue Burgers just to name a few. Looking forward to the last market of 2018 and a great opportunity to pick up some of your Christmas gifts. \nBell Markets are held quarterly and are located at Pip’s ‘N’ Cherries\, 15 Ensor st\, Bell \n7am start to 12pm. \nhttps://www.facebook.com/Pips-N-Cherries-385388244844948/ \n\n\n\n\n\n\n\n\n\n\n\n\n\n\n\n\n\n\n\n\n\n\n\n\n
URL:https://www.ramesa.com.au/event/bell-markets/
LOCATION:Bell Markets\, Pips and Cherries\, 15 Ensor Stret\, Bell\, QLD\, 4408\, Australia
CATEGORIES:Markets
ATTACH;FMTTYPE=image/jpeg:https://www.ramesa.com.au/wp-content/uploads/2018/02/pips_cherries.jpg
END:VEVENT
END:VCALENDAR